BEGIN:VCALENDAR
VERSION:2.0
PRODID:-//eventon.com NONSGML v1.0//EN
CALSCALE:GREGORIAN
METHOD:PUBLISH
BEGIN:VEVENT
UID:69e5e02c8f8a3
DTSTAMP:20260420T081332Z
DTSTART:20230518
DTEND:20230519
LOCATION:
SUMMARY:Power to the Max-Whistler
DESCRIPTION:Full Competitive Groups Only\nhttps://shiftdance.ca/events/powe
 r-to-the-max-whistler/
URL:https://shiftdance.ca/events/power-to-the-max-whistler/
END:VEVENT
END:VCALENDAR