BEGIN:VCALENDAR
VERSION:2.0
PRODID:-//eventon.com NONSGML v1.0//EN
CALSCALE:GREGORIAN
METHOD:PUBLISH
BEGIN:VEVENT
UID:69eb6dd9b9195
DTSTAMP:20260424T131921Z
DTSTART:20230220
DTEND:20230221
LOCATION:
SUMMARY:Family Day- Studio CLOSED
DESCRIPTION:We will be CLOSED for FAMILY DAY.\nhttps://shiftdance.ca/events
 /family-day-studio-closed-2022/
URL:https://shiftdance.ca/events/family-day-studio-closed-2022/
END:VEVENT
END:VCALENDAR