BEGIN:VCALENDAR
VERSION:2.0
PRODID:-//eventon.com NONSGML v1.0//EN
CALSCALE:GREGORIAN
METHOD:PUBLISH
BEGIN:VEVENT
UID:69e502eea3e6e
DTSTAMP:20260419T162934Z
DTSTART:20230327
DTEND:20230328
LOCATION:
SUMMARY:Classes Resume
DESCRIPTION:All classes will resume as usual on Monday\,  March 27th. We ho
 pe you had a fabulous Spring Break!\nhttps://shiftdance.ca/events/classes-r
 esume-9/
URL:https://shiftdance.ca/events/classes-resume-9/
END:VEVENT
END:VCALENDAR