BEGIN:VCALENDAR
VERSION:2.0
PRODID:-//eventon.com NONSGML v1.0//EN
CALSCALE:GREGORIAN
METHOD:PUBLISH
BEGIN:VEVENT
UID:69e65fae8b429
DTSTAMP:20260420T171734Z
DTSTART:20221111
DTEND:20221112
LOCATION:
SUMMARY:Remembrance Day- Studio CLOSED
DESCRIPTION:We will be closed on November 11th for Remembrance Day.\nhttps:
 //shiftdance.ca/events/remembrance-day-studio-closed/
URL:https://shiftdance.ca/events/remembrance-day-studio-closed/
END:VEVENT
END:VCALENDAR