BEGIN:VCALENDAR
VERSION:2.0
PRODID:-//eventon.com NONSGML v1.0//EN
CALSCALE:GREGORIAN
METHOD:PUBLISH
BEGIN:VEVENT
UID:69e5ff8ab1bb8
DTSTAMP:20260420T102722Z
DTSTART:20221031
DTEND:20221101
LOCATION:
SUMMARY:Halloween- CLOSED
DESCRIPTION:Happy Halloween! No classes. If you are trick- or- treating be 
 safe out there!!\nhttps://shiftdance.ca/events/halloween-classes-optional-2
 /
URL:https://shiftdance.ca/events/halloween-classes-optional-2/
END:VEVENT
END:VCALENDAR